BEGIN:VCALENDAR
PRODID:-//Mozilla.org/NONSGML Mozilla Calendar V1.1//EN
VERSION:2.0
CALSCALE:GREGORIAN
BEGIN:VEVENT
DTSTAMP:20260424T115039Z
DTSTART:20260424T080000
DTEND:20260424T083000
SUMMARY:2021 JEEP RENEGADE 
LOCATION:http://www.copart.com.br:80
DESCRIPTION:Please join us for the following auction:\n\n2021 JEEP RENEGA
 DE \nwww.copart.com.br\n\n\n\nContact us at member.services@copart.com o
 r (972) 391-5400 if you have any questions leading up to the auction.\n\
 n\n-Your Copart Team
UID:20260424T115039Z-uidGen@lvpbaw212.corp.copart.com
END:VEVENT
END:VCALENDAR
